BEGIN:VCALENDAR
VERSION:2.0
PRODID:-//Lagrange Street Hockey - ECPv6.15.20//NONSGML v1.0//EN
CALSCALE:GREGORIAN
METHOD:PUBLISH
X-ORIGINAL-URL:https://lagrangehockey.com
X-WR-CALDESC:Events for Lagrange Street Hockey
REFRESH-INTERVAL;VALUE=DURATION:PT1H
X-Robots-Tag:noindex
X-PUBLISHED-TTL:PT1H
BEGIN:VTIMEZONE
TZID:America/New_York
BEGIN:DAYLIGHT
TZOFFSETFROM:-0500
TZOFFSETTO:-0400
TZNAME:EDT
DTSTART:20230312T070000
END:DAYLIGHT
BEGIN:STANDARD
TZOFFSETFROM:-0400
TZOFFSETTO:-0500
TZNAME:EST
DTSTART:20231105T060000
END:STANDARD
BEGIN:DAYLIGHT
TZOFFSETFROM:-0500
TZOFFSETTO:-0400
TZNAME:EDT
DTSTART:20240310T070000
END:DAYLIGHT
BEGIN:STANDARD
TZOFFSETFROM:-0400
TZOFFSETTO:-0500
TZNAME:EST
DTSTART:20241103T060000
END:STANDARD
BEGIN:DAYLIGHT
TZOFFSETFROM:-0500
TZOFFSETTO:-0400
TZNAME:EDT
DTSTART:20250309T070000
END:DAYLIGHT
BEGIN:STANDARD
TZOFFSETFROM:-0400
TZOFFSETTO:-0500
TZNAME:EST
DTSTART:20251102T060000
END:STANDARD
END:VTIMEZONE
BEGIN:VEVENT
DTSTART;TZID=America/New_York:20240727T120000
DTEND;TZID=America/New_York:20240727T120000
DTSTAMP:20260422T184650
CREATED:20240416T004801Z
LAST-MODIFIED:20240416T172926Z
UID:10000037-1722081600-1722081600@lagrangehockey.com
SUMMARY:Atlanta Dirty Birds vs. LaGrange Hooligans
DESCRIPTION:
URL:https://lagrangehockey.com/event/atlanta-dirty-birds-vs-lagrange-hooligans-2/
CATEGORIES:Hooligans,NBHL
END:VEVENT
BEGIN:VEVENT
DTSTART;TZID=America/New_York:20240727T110000
DTEND;TZID=America/New_York:20240727T110000
DTSTAMP:20260422T184650
CREATED:20240416T004800Z
LAST-MODIFIED:20240416T172930Z
UID:10000036-1722078000-1722078000@lagrangehockey.com
SUMMARY:Georgia Boll Weevils vs. Atlanta Despots
DESCRIPTION:
URL:https://lagrangehockey.com/event/georgia-boll-weevils-vs-atlanta-despots-3/
CATEGORIES:NBHL
END:VEVENT
BEGIN:VEVENT
DTSTART;TZID=America/New_York:20240615T160000
DTEND;TZID=America/New_York:20240615T160000
DTSTAMP:20260422T184650
CREATED:20240416T004759Z
LAST-MODIFIED:20240416T004759Z
UID:10000035-1718467200-1718467200@lagrangehockey.com
SUMMARY:LaGrange Hooligans vs. Atlanta Dirty Birds
DESCRIPTION:
URL:https://lagrangehockey.com/event/lagrange-hooligans-vs-atlanta-dirty-birds/
CATEGORIES:Hooligans,NBHL
END:VEVENT
BEGIN:VEVENT
DTSTART;TZID=America/New_York:20240615T150000
DTEND;TZID=America/New_York:20240615T150000
DTSTAMP:20260422T184650
CREATED:20240416T004759Z
LAST-MODIFIED:20240416T004759Z
UID:10000034-1718463600-1718463600@lagrangehockey.com
SUMMARY:Georgia Boll Weevils vs. Atlanta Despots
DESCRIPTION:
URL:https://lagrangehockey.com/event/georgia-boll-weevils-vs-atlanta-despots-2/
CATEGORIES:NBHL
END:VEVENT
BEGIN:VEVENT
DTSTART;TZID=America/New_York:20240615T140000
DTEND;TZID=America/New_York:20240615T140000
DTSTAMP:20260422T184650
CREATED:20240416T004744Z
LAST-MODIFIED:20240416T004744Z
UID:10000033-1718460000-1718460000@lagrangehockey.com
SUMMARY:Atlanta Dirty Birds vs. Georgia Boll Weevils
DESCRIPTION:
URL:https://lagrangehockey.com/event/atlanta-dirty-birds-vs-georgia-boll-weevils-2/
CATEGORIES:NBHL
END:VEVENT
BEGIN:VEVENT
DTSTART;TZID=America/New_York:20240615T130000
DTEND;TZID=America/New_York:20240615T130000
DTSTAMP:20260422T184650
CREATED:20240416T004744Z
LAST-MODIFIED:20240416T004744Z
UID:10000032-1718456400-1718456400@lagrangehockey.com
SUMMARY:Atlanta Despots vs. LaGrange Hooligans
DESCRIPTION:
URL:https://lagrangehockey.com/event/atlanta-despots-vs-lagrange-hooligans/
CATEGORIES:Hooligans,NBHL
END:VEVENT
BEGIN:VEVENT
DTSTART;TZID=America/New_York:20240615T120000
DTEND;TZID=America/New_York:20240615T120000
DTSTAMP:20260422T184650
CREATED:20240416T004743Z
LAST-MODIFIED:20240416T004743Z
UID:10000031-1718452800-1718452800@lagrangehockey.com
SUMMARY:LaGrange Hooligans vs. Georgia Boll Weevils
DESCRIPTION:
URL:https://lagrangehockey.com/event/lagrange-hooligans-vs-georgia-boll-weevils/
CATEGORIES:Hooligans,NBHL
END:VEVENT
BEGIN:VEVENT
DTSTART;TZID=America/New_York:20240615T110000
DTEND;TZID=America/New_York:20240615T110000
DTSTAMP:20260422T184650
CREATED:20240416T004743Z
LAST-MODIFIED:20240416T004743Z
UID:10000030-1718449200-1718449200@lagrangehockey.com
SUMMARY:Atlanta Dirty Birds vs. Atlanta Despots
DESCRIPTION:
URL:https://lagrangehockey.com/event/atlanta-dirty-birds-vs-atlanta-despots/
CATEGORIES:NBHL
END:VEVENT
BEGIN:VEVENT
DTSTART;TZID=America/New_York:20240511T160000
DTEND;TZID=America/New_York:20240511T160000
DTSTAMP:20260422T184650
CREATED:20240416T004743Z
LAST-MODIFIED:20240416T004743Z
UID:10000029-1715443200-1715443200@lagrangehockey.com
SUMMARY:Atlanta Dirty Birds vs. LaGrange Hooligans
DESCRIPTION:
URL:https://lagrangehockey.com/event/atlanta-dirty-birds-vs-lagrange-hooligans/
CATEGORIES:Hooligans,NBHL
END:VEVENT
BEGIN:VEVENT
DTSTART;TZID=America/New_York:20240511T150000
DTEND;TZID=America/New_York:20240511T150000
DTSTAMP:20260422T184650
CREATED:20240416T004742Z
LAST-MODIFIED:20240416T004742Z
UID:10000028-1715439600-1715439600@lagrangehockey.com
SUMMARY:Georgia Boll Weevils vs. Atlanta Despots
DESCRIPTION:
URL:https://lagrangehockey.com/event/georgia-boll-weevils-vs-atlanta-despots/
CATEGORIES:NBHL
END:VEVENT
BEGIN:VEVENT
DTSTART;TZID=America/New_York:20240511T140000
DTEND;TZID=America/New_York:20240511T140000
DTSTAMP:20260422T184650
CREATED:20240416T004741Z
LAST-MODIFIED:20240416T004741Z
UID:10000027-1715436000-1715436000@lagrangehockey.com
SUMMARY:LaGrange Hooligans vs. Atlanta Despots
DESCRIPTION:
URL:https://lagrangehockey.com/event/lagrange-hooligans-vs-atlanta-despots/
CATEGORIES:Hooligans,NBHL
END:VEVENT
BEGIN:VEVENT
DTSTART;TZID=America/New_York:20240511T130000
DTEND;TZID=America/New_York:20240511T130000
DTSTAMP:20260422T184650
CREATED:20240416T004741Z
LAST-MODIFIED:20240416T004741Z
UID:10000026-1715432400-1715432400@lagrangehockey.com
SUMMARY:Atlanta Dirty Birds vs. Georgia Boll Weevils
DESCRIPTION:
URL:https://lagrangehockey.com/event/atlanta-dirty-birds-vs-georgia-boll-weevils/
CATEGORIES:NBHL
END:VEVENT
BEGIN:VEVENT
DTSTART;TZID=America/New_York:20240511T120000
DTEND;TZID=America/New_York:20240511T120000
DTSTAMP:20260422T184650
CREATED:20240416T004740Z
LAST-MODIFIED:20240416T004740Z
UID:10000025-1715428800-1715428800@lagrangehockey.com
SUMMARY:Atlanta Despots vs. Atlanta Dirty Birds
DESCRIPTION:
URL:https://lagrangehockey.com/event/atlanta-despots-vs-atlanta-dirty-birds/
CATEGORIES:NBHL
END:VEVENT
BEGIN:VEVENT
DTSTART;TZID=America/New_York:20240511T110000
DTEND;TZID=America/New_York:20240511T110000
DTSTAMP:20260422T184650
CREATED:20240416T004740Z
LAST-MODIFIED:20240416T004740Z
UID:10000024-1715425200-1715425200@lagrangehockey.com
SUMMARY:Georgia Boll Weevils vs. LaGrange Hooligans
DESCRIPTION:
URL:https://lagrangehockey.com/event/georgia-boll-weevils-vs-lagrange-hooligans/
CATEGORIES:Hooligans,NBHL
END:VEVENT
END:VCALENDAR